BEGIN:VCALENDAR
VERSION:2.0
PRODID:-//Flower City Special Hockey - ECPv6.15.17//NONSGML v1.0//EN
CALSCALE:GREGORIAN
METHOD:PUBLISH
X-WR-CALNAME:Flower City Special Hockey
X-ORIGINAL-URL:https://flowercityspecialhockey.org
X-WR-CALDESC:Events for Flower City Special Hockey
REFRESH-INTERVAL;VALUE=DURATION:PT1H
X-Robots-Tag:noindex
X-PUBLISHED-TTL:PT1H
BEGIN:VTIMEZONE
TZID:America/New_York
BEGIN:DAYLIGHT
TZOFFSETFROM:-0500
TZOFFSETTO:-0400
TZNAME:EDT
DTSTART:20250309T070000
END:DAYLIGHT
BEGIN:STANDARD
TZOFFSETFROM:-0400
TZOFFSETTO:-0500
TZNAME:EST
DTSTART:20251102T060000
END:STANDARD
BEGIN:DAYLIGHT
TZOFFSETFROM:-0500
TZOFFSETTO:-0400
TZNAME:EDT
DTSTART:20260308T070000
END:DAYLIGHT
BEGIN:STANDARD
TZOFFSETFROM:-0400
TZOFFSETTO:-0500
TZNAME:EST
DTSTART:20261101T060000
END:STANDARD
BEGIN:DAYLIGHT
TZOFFSETFROM:-0500
TZOFFSETTO:-0400
TZNAME:EDT
DTSTART:20270314T070000
END:DAYLIGHT
BEGIN:STANDARD
TZOFFSETFROM:-0400
TZOFFSETTO:-0500
TZNAME:EST
DTSTART:20271107T060000
END:STANDARD
END:VTIMEZONE
BEGIN:VEVENT
DTSTART;TZID=America/New_York:20260222T140000
DTEND;TZID=America/New_York:20260222T150000
DTSTAMP:20260421T114542
CREATED:20250726T134058Z
LAST-MODIFIED:20260216T005731Z
UID:2660-1771768800-1771772400@flowercityspecialhockey.org
SUMMARY:Practice
DESCRIPTION:We will be holding practice at Paul Louis Arena
URL:https://flowercityspecialhockey.org/event/no-practice-9/
LOCATION:Paul Louis Arena\, 1 Boys Club Place\, Rochester\, 14608\, United States
CATEGORIES:Practices
END:VEVENT
BEGIN:VEVENT
DTSTART;TZID=America/New_York:20260228T090000
DTEND;TZID=America/New_York:20260228T100000
DTSTAMP:20260421T114542
CREATED:20260215T020740Z
LAST-MODIFIED:20260215T020740Z
UID:3686-1772269200-1772272800@flowercityspecialhockey.org
SUMMARY:Practice at Dicks House of Sports
DESCRIPTION:We will be holding practice at Dicks House of Sports in Victor\, NY
URL:https://flowercityspecialhockey.org/event/practice-at-dicks-house-of-sports-2/
LOCATION:Dicks House of Sports\, 200 East view Mall\, Victor\, NY\, 14564\, United States
CATEGORIES:Practices
END:VEVENT
BEGIN:VEVENT
DTSTART;TZID=America/New_York:20260301T170000
DTEND;TZID=America/New_York:20260301T180000
DTSTAMP:20260421T114542
CREATED:20250726T134154Z
LAST-MODIFIED:20260215T021214Z
UID:2662-1772384400-1772388000@flowercityspecialhockey.org
SUMMARY:Practice
DESCRIPTION:We will be holding practice at Lakeshore Hockey Arena
URL:https://flowercityspecialhockey.org/event/practice-33/
LOCATION:Lakeshore Hockey Arena\, 123 Ling Rd\, Rochester\, NY\, 14612\, United States
CATEGORIES:Practices
END:VEVENT
BEGIN:VEVENT
DTSTART;TZID=America/New_York:20260308T170000
DTEND;TZID=America/New_York:20260308T180000
DTSTAMP:20260421T114542
CREATED:20250726T134239Z
LAST-MODIFIED:20260223T201623Z
UID:2664-1772989200-1772992800@flowercityspecialhockey.org
SUMMARY:Game Vs. BK Selects 19U Women’s Team
DESCRIPTION:We will be hosting the BK Selects 19U women’s team for a game at Lakeshore Hockey Arena
URL:https://flowercityspecialhockey.org/event/practice-34/
LOCATION:Lakeshore Hockey Arena\, 123 Ling Rd\, Rochester\, NY\, 14612\, United States
CATEGORIES:Practices,Scrimmage
END:VEVENT
BEGIN:VEVENT
DTSTART;TZID=America/New_York:20260315T170000
DTEND;TZID=America/New_York:20260315T180000
DTSTAMP:20260421T114542
CREATED:20250726T134327Z
LAST-MODIFIED:20260215T020955Z
UID:2666-1773594000-1773597600@flowercityspecialhockey.org
SUMMARY:Practice
DESCRIPTION:We will be holding practice at Lakeshore Hockey Arena
URL:https://flowercityspecialhockey.org/event/practice-35/
LOCATION:Lakeshore Hockey Arena\, 123 Ling Rd\, Rochester\, NY\, 14612\, United States
CATEGORIES:Practices
END:VEVENT
BEGIN:VEVENT
DTSTART;TZID=America/New_York:20260322T170000
DTEND;TZID=America/New_York:20260322T180000
DTSTAMP:20260421T114542
CREATED:20250726T134422Z
LAST-MODIFIED:20260311T003643Z
UID:2668-1774198800-1774202400@flowercityspecialhockey.org
SUMMARY:Practice with Rochester Edge Girls U14
DESCRIPTION:Rochester Edge Girls U14 Hockey Team will be joining us for practice at Lakeshore Hockey Arena \nThe ladies will help us work on some skills for half of the ice time\,\nand scrimmage in our gray and purple practice jerseys for the second half.
URL:https://flowercityspecialhockey.org/event/practice-36/
LOCATION:Lakeshore Hockey Arena\, 123 Ling Rd\, Rochester\, NY\, 14612\, United States
CATEGORIES:Practices
END:VEVENT
BEGIN:VEVENT
DTSTART;VALUE=DATE:20260327
DTEND;VALUE=DATE:20260330
DTSTAMP:20260421T114542
CREATED:20250725T001259Z
LAST-MODIFIED:20260327T101951Z
UID:2616-1774569600-1774828799@flowercityspecialhockey.org
SUMMARY:Lake Placid CAN/AM Tournament
DESCRIPTION:  \nFor the most up to date information\, please visit: \nhttps://www.specialhockey.org/page/show/9073510-can-am-lake-placid \nhttps://new.express.adobe.com/webpage/XjVEsPQguyqfG
URL:https://flowercityspecialhockey.org/event/lake-placid-can-am-tournament/
LOCATION:NY
CATEGORIES:Special Event,Tournament
END:VEVENT
BEGIN:VEVENT
DTSTART;TZID=America/New_York:20260329T170000
DTEND;TZID=America/New_York:20260329T180000
DTSTAMP:20260421T114542
CREATED:20250726T134633Z
LAST-MODIFIED:20250726T134633Z
UID:2670-1774803600-1774807200@flowercityspecialhockey.org
SUMMARY:No Practice
DESCRIPTION:We will not be holding practice today
URL:https://flowercityspecialhockey.org/event/no-practice-10/
LOCATION:NY
END:VEVENT
BEGIN:VEVENT
DTSTART;TZID=America/New_York:20260404T140000
DTEND;TZID=America/New_York:20260404T220000
DTSTAMP:20260421T114542
CREATED:20250821T223256Z
LAST-MODIFIED:20250921T143924Z
UID:2683-1775311200-1775340000@flowercityspecialhockey.org
SUMMARY:Flower City Eagles at the Blue Cross Arena
DESCRIPTION:We will be holding a game on Amerks ice at the blue cross arena against our friends the Buffalo Sabres Thunder. and then attending their game that evening. \nour ice time is from 2-3:30 PM\, and the Amerks puck drop is at 5:05 PM. \nMore details to follow as th date approaches.
URL:https://flowercityspecialhockey.org/event/flower-city-eagles-at-the-blue-cross-arena/
LOCATION:Blue Cross Arena\, 1 War Memorial Square\, Rochester\, NY\, 14612\, United States
CATEGORIES:Scrimmage,Special Event
END:VEVENT
BEGIN:VEVENT
DTSTART;TZID=America/New_York:20260405T170000
DTEND;TZID=America/New_York:20260405T180000
DTSTAMP:20260421T114542
CREATED:20250726T134856Z
LAST-MODIFIED:20250726T134856Z
UID:2672-1775408400-1775412000@flowercityspecialhockey.org
SUMMARY:No Practice
DESCRIPTION:We will not be holding practice today
URL:https://flowercityspecialhockey.org/event/no-practice-11/
LOCATION:NY
CATEGORIES:Practices
END:VEVENT
BEGIN:VEVENT
DTSTART;TZID=America/New_York:20260412T170000
DTEND;TZID=America/New_York:20260412T180000
DTSTAMP:20260421T114542
CREATED:20250726T134941Z
LAST-MODIFIED:20260215T021411Z
UID:2674-1776013200-1776016800@flowercityspecialhockey.org
SUMMARY:Practice
DESCRIPTION:We will be holding practice at Rochester Ice Center’s Stellar Rink
URL:https://flowercityspecialhockey.org/event/practice-37/
LOCATION:Rochester Ice Center\, 80 Lyndon Rd\, Fairport\, NY\, 14450\, United States
CATEGORIES:Practices
END:VEVENT
BEGIN:VEVENT
DTSTART;VALUE=DATE:20260418
DTEND;VALUE=DATE:20260419
DTSTAMP:20260421T114542
CREATED:20250930T221517Z
LAST-MODIFIED:20260413T083956Z
UID:2939-1776470400-1776556799@flowercityspecialhockey.org
SUMMARY:2nd Annual Flower City Invitational
DESCRIPTION:
URL:https://flowercityspecialhockey.org/event/2nd-annual-flower-city-invitational/
LOCATION:Tim Hortons Iceplex\, 2700 Brighton Henrietta Townline rd\, Rochester\, NY\, 14623\, United States
CATEGORIES:Tournament
END:VEVENT
BEGIN:VEVENT
DTSTART;TZID=America/New_York:20260419T170000
DTEND;TZID=America/New_York:20260419T180000
DTSTAMP:20260421T114542
CREATED:20250726T135030Z
LAST-MODIFIED:20260215T021255Z
UID:2676-1776618000-1776621600@flowercityspecialhockey.org
SUMMARY:No Practice
DESCRIPTION:We will not be holding practice today
URL:https://flowercityspecialhockey.org/event/practice-38/
LOCATION:NY
END:VEVENT
BEGIN:VEVENT
DTSTART;TZID=America/New_York:20260426T170000
DTEND;TZID=America/New_York:20260426T180000
DTSTAMP:20260421T114542
CREATED:20250726T135136Z
LAST-MODIFIED:20260215T021519Z
UID:2678-1777222800-1777226400@flowercityspecialhockey.org
SUMMARY:Last Practice
DESCRIPTION:We will be holding our last practice for the season at Rochester Ice Center on their East Rink
URL:https://flowercityspecialhockey.org/event/last-practice/
LOCATION:Rochester Ice Center\, 80 Lyndon Rd\, Fairport\, NY\, 14450\, United States
CATEGORIES:Practices
END:VEVENT
BEGIN:VEVENT
DTSTART;TZID=America/New_York:20260509T090000
DTEND;TZID=America/New_York:20260509T130000
DTSTAMP:20260421T114542
CREATED:20260223T160030Z
LAST-MODIFIED:20260223T160030Z
UID:3850-1778317200-1778331600@flowercityspecialhockey.org
SUMMARY:Michigan Special Hockey Clinic 2026
DESCRIPTION:
URL:https://flowercityspecialhockey.org/event/michigan-special-hockey-clinic-2026/
LOCATION:St. Clair Shores Civic Arena\, 20000 Stephens Rd\, St Clair Shores\, MI\, 48080\, United States
CATEGORIES:Special Event
END:VEVENT
BEGIN:VEVENT
DTSTART;VALUE=DATE:20260530
DTEND;VALUE=DATE:20260531
DTSTAMP:20260421T114542
CREATED:20251124T161220Z
LAST-MODIFIED:20251124T164905Z
UID:3369-1780099200-1780185599@flowercityspecialhockey.org
SUMMARY:End of Season Celebration
DESCRIPTION:We will be holding out end of season celebration at the Knollwood Lodge in Northampton Park. \nHere’s a Google Maps link directly to the lodge: \nhttps://maps.app.goo.gl/AcnsNbbrV3ogK3uc8?g_st=ipc  \nMore details as the sate approaches.
URL:https://flowercityspecialhockey.org/event/end-of-season-celebration/
LOCATION:Northampton Park\, 304 Salmon Creek Rd\, Brockport\, NY\, 14420\, United States
CATEGORIES:Special Event
END:VEVENT
BEGIN:VEVENT
DTSTART;VALUE=DATE:20260628
DTEND;VALUE=DATE:20260629
DTSTAMP:20260421T114542
CREATED:20260121T133451Z
LAST-MODIFIED:20260121T133451Z
UID:3681-1782604800-1782691199@flowercityspecialhockey.org
SUMMARY:2nd Annual Golf Tournament
DESCRIPTION:Details will be available later in the season
URL:https://flowercityspecialhockey.org/event/2nd-annual-golf-tournament/
LOCATION:Mill Creek Golf Club\, 128 Cedars Ave\, Churchville\, NY\, 14428\, United States
CATEGORIES:Special Event
END:VEVENT
END:VCALENDAR