BEGIN:VCALENDAR
VERSION:2.0
PRODID:-//Flower City Special Hockey - ECPv6.15.17//NONSGML v1.0//EN
CALSCALE:GREGORIAN
METHOD:PUBLISH
X-WR-CALNAME:Flower City Special Hockey
X-ORIGINAL-URL:https://flowercityspecialhockey.org
X-WR-CALDESC:Events for Flower City Special Hockey
REFRESH-INTERVAL;VALUE=DURATION:PT1H
X-Robots-Tag:noindex
X-PUBLISHED-TTL:PT1H
BEGIN:VTIMEZONE
TZID:America/New_York
BEGIN:DAYLIGHT
TZOFFSETFROM:-0500
TZOFFSETTO:-0400
TZNAME:EDT
DTSTART:20240310T070000
END:DAYLIGHT
BEGIN:STANDARD
TZOFFSETFROM:-0400
TZOFFSETTO:-0500
TZNAME:EST
DTSTART:20241103T060000
END:STANDARD
BEGIN:DAYLIGHT
TZOFFSETFROM:-0500
TZOFFSETTO:-0400
TZNAME:EDT
DTSTART:20250309T070000
END:DAYLIGHT
BEGIN:STANDARD
TZOFFSETFROM:-0400
TZOFFSETTO:-0500
TZNAME:EST
DTSTART:20251102T060000
END:STANDARD
BEGIN:DAYLIGHT
TZOFFSETFROM:-0500
TZOFFSETTO:-0400
TZNAME:EDT
DTSTART:20260308T070000
END:DAYLIGHT
BEGIN:STANDARD
TZOFFSETFROM:-0400
TZOFFSETTO:-0500
TZNAME:EST
DTSTART:20261101T060000
END:STANDARD
BEGIN:DAYLIGHT
TZOFFSETFROM:-0500
TZOFFSETTO:-0400
TZNAME:EDT
DTSTART:20270314T070000
END:DAYLIGHT
BEGIN:STANDARD
TZOFFSETFROM:-0400
TZOFFSETTO:-0500
TZNAME:EST
DTSTART:20271107T060000
END:STANDARD
END:VTIMEZONE
BEGIN:VEVENT
DTSTART;TZID=America/New_York:20260426T170000
DTEND;TZID=America/New_York:20260426T180000
DTSTAMP:20260421T082211
CREATED:20250726T135136Z
LAST-MODIFIED:20260215T021519Z
UID:2678-1777222800-1777226400@flowercityspecialhockey.org
SUMMARY:Last Practice
DESCRIPTION:We will be holding our last practice for the season at Rochester Ice Center on their East Rink
URL:https://flowercityspecialhockey.org/event/last-practice/
LOCATION:Rochester Ice Center\, 80 Lyndon Rd\, Fairport\, NY\, 14450\, United States
CATEGORIES:Practices
END:VEVENT
BEGIN:VEVENT
DTSTART;TZID=America/New_York:20260419T170000
DTEND;TZID=America/New_York:20260419T180000
DTSTAMP:20260421T082211
CREATED:20250726T135030Z
LAST-MODIFIED:20260215T021255Z
UID:2676-1776618000-1776621600@flowercityspecialhockey.org
SUMMARY:No Practice
DESCRIPTION:We will not be holding practice today
URL:https://flowercityspecialhockey.org/event/practice-38/
LOCATION:MI
END:VEVENT
BEGIN:VEVENT
DTSTART;VALUE=DATE:20260418
DTEND;VALUE=DATE:20260419
DTSTAMP:20260421T082211
CREATED:20250930T221517Z
LAST-MODIFIED:20260413T083956Z
UID:2939-1776470400-1776556799@flowercityspecialhockey.org
SUMMARY:2nd Annual Flower City Invitational
DESCRIPTION:
URL:https://flowercityspecialhockey.org/event/2nd-annual-flower-city-invitational/
LOCATION:Tim Hortons Iceplex\, 2700 Brighton Henrietta Townline rd\, Rochester\, NY\, 14623\, United States
CATEGORIES:Tournament
END:VEVENT
BEGIN:VEVENT
DTSTART;TZID=America/New_York:20260412T170000
DTEND;TZID=America/New_York:20260412T180000
DTSTAMP:20260421T082211
CREATED:20250726T134941Z
LAST-MODIFIED:20260215T021411Z
UID:2674-1776013200-1776016800@flowercityspecialhockey.org
SUMMARY:Practice
DESCRIPTION:We will be holding practice at Rochester Ice Center’s Stellar Rink
URL:https://flowercityspecialhockey.org/event/practice-37/
LOCATION:Rochester Ice Center\, 80 Lyndon Rd\, Fairport\, NY\, 14450\, United States
CATEGORIES:Practices
END:VEVENT
BEGIN:VEVENT
DTSTART;TZID=America/New_York:20260405T170000
DTEND;TZID=America/New_York:20260405T180000
DTSTAMP:20260421T082211
CREATED:20250726T134856Z
LAST-MODIFIED:20250726T134856Z
UID:2672-1775408400-1775412000@flowercityspecialhockey.org
SUMMARY:No Practice
DESCRIPTION:We will not be holding practice today
URL:https://flowercityspecialhockey.org/event/no-practice-11/
LOCATION:MI
CATEGORIES:Practices
END:VEVENT
BEGIN:VEVENT
DTSTART;TZID=America/New_York:20260404T140000
DTEND;TZID=America/New_York:20260404T220000
DTSTAMP:20260421T082211
CREATED:20250821T223256Z
LAST-MODIFIED:20250921T143924Z
UID:2683-1775311200-1775340000@flowercityspecialhockey.org
SUMMARY:Flower City Eagles at the Blue Cross Arena
DESCRIPTION:We will be holding a game on Amerks ice at the blue cross arena against our friends the Buffalo Sabres Thunder. and then attending their game that evening. \nour ice time is from 2-3:30 PM\, and the Amerks puck drop is at 5:05 PM. \nMore details to follow as th date approaches.
URL:https://flowercityspecialhockey.org/event/flower-city-eagles-at-the-blue-cross-arena/
LOCATION:Blue Cross Arena\, 1 War Memorial Square\, Rochester\, NY\, 14612\, United States
CATEGORIES:Scrimmage,Special Event
END:VEVENT
BEGIN:VEVENT
DTSTART;TZID=America/New_York:20260329T170000
DTEND;TZID=America/New_York:20260329T180000
DTSTAMP:20260421T082211
CREATED:20250726T134633Z
LAST-MODIFIED:20250726T134633Z
UID:2670-1774803600-1774807200@flowercityspecialhockey.org
SUMMARY:No Practice
DESCRIPTION:We will not be holding practice today
URL:https://flowercityspecialhockey.org/event/no-practice-10/
LOCATION:MI
END:VEVENT
BEGIN:VEVENT
DTSTART;VALUE=DATE:20260327
DTEND;VALUE=DATE:20260330
DTSTAMP:20260421T082211
CREATED:20250725T001259Z
LAST-MODIFIED:20260327T101951Z
UID:2616-1774569600-1774828799@flowercityspecialhockey.org
SUMMARY:Lake Placid CAN/AM Tournament
DESCRIPTION:  \nFor the most up to date information\, please visit: \nhttps://www.specialhockey.org/page/show/9073510-can-am-lake-placid \nhttps://new.express.adobe.com/webpage/XjVEsPQguyqfG
URL:https://flowercityspecialhockey.org/event/lake-placid-can-am-tournament/
LOCATION:MI
CATEGORIES:Special Event,Tournament
END:VEVENT
BEGIN:VEVENT
DTSTART;TZID=America/New_York:20260322T170000
DTEND;TZID=America/New_York:20260322T180000
DTSTAMP:20260421T082211
CREATED:20250726T134422Z
LAST-MODIFIED:20260311T003643Z
UID:2668-1774198800-1774202400@flowercityspecialhockey.org
SUMMARY:Practice with Rochester Edge Girls U14
DESCRIPTION:Rochester Edge Girls U14 Hockey Team will be joining us for practice at Lakeshore Hockey Arena \nThe ladies will help us work on some skills for half of the ice time\,\nand scrimmage in our gray and purple practice jerseys for the second half.
URL:https://flowercityspecialhockey.org/event/practice-36/
LOCATION:Lakeshore Hockey Arena\, 123 Ling Rd\, Rochester\, NY\, 14612\, United States
CATEGORIES:Practices
END:VEVENT
BEGIN:VEVENT
DTSTART;TZID=America/New_York:20260315T170000
DTEND;TZID=America/New_York:20260315T180000
DTSTAMP:20260421T082211
CREATED:20250726T134327Z
LAST-MODIFIED:20260215T020955Z
UID:2666-1773594000-1773597600@flowercityspecialhockey.org
SUMMARY:Practice
DESCRIPTION:We will be holding practice at Lakeshore Hockey Arena
URL:https://flowercityspecialhockey.org/event/practice-35/
LOCATION:Lakeshore Hockey Arena\, 123 Ling Rd\, Rochester\, NY\, 14612\, United States
CATEGORIES:Practices
END:VEVENT
BEGIN:VEVENT
DTSTART;TZID=America/New_York:20260308T170000
DTEND;TZID=America/New_York:20260308T180000
DTSTAMP:20260421T082211
CREATED:20250726T134239Z
LAST-MODIFIED:20260223T201623Z
UID:2664-1772989200-1772992800@flowercityspecialhockey.org
SUMMARY:Game Vs. BK Selects 19U Women’s Team
DESCRIPTION:We will be hosting the BK Selects 19U women’s team for a game at Lakeshore Hockey Arena
URL:https://flowercityspecialhockey.org/event/practice-34/
LOCATION:Lakeshore Hockey Arena\, 123 Ling Rd\, Rochester\, NY\, 14612\, United States
CATEGORIES:Practices,Scrimmage
END:VEVENT
BEGIN:VEVENT
DTSTART;TZID=America/New_York:20260301T170000
DTEND;TZID=America/New_York:20260301T180000
DTSTAMP:20260421T082211
CREATED:20250726T134154Z
LAST-MODIFIED:20260215T021214Z
UID:2662-1772384400-1772388000@flowercityspecialhockey.org
SUMMARY:Practice
DESCRIPTION:We will be holding practice at Lakeshore Hockey Arena
URL:https://flowercityspecialhockey.org/event/practice-33/
LOCATION:Lakeshore Hockey Arena\, 123 Ling Rd\, Rochester\, NY\, 14612\, United States
CATEGORIES:Practices
END:VEVENT
BEGIN:VEVENT
DTSTART;TZID=America/New_York:20260228T090000
DTEND;TZID=America/New_York:20260228T100000
DTSTAMP:20260421T082211
CREATED:20260215T020740Z
LAST-MODIFIED:20260215T020740Z
UID:3686-1772269200-1772272800@flowercityspecialhockey.org
SUMMARY:Practice at Dicks House of Sports
DESCRIPTION:We will be holding practice at Dicks House of Sports in Victor\, NY
URL:https://flowercityspecialhockey.org/event/practice-at-dicks-house-of-sports-2/
LOCATION:Dicks House of Sports\, 200 East view Mall\, Victor\, NY\, 14564\, United States
CATEGORIES:Practices
END:VEVENT
BEGIN:VEVENT
DTSTART;TZID=America/New_York:20260222T140000
DTEND;TZID=America/New_York:20260222T150000
DTSTAMP:20260421T082211
CREATED:20250726T134058Z
LAST-MODIFIED:20260216T005731Z
UID:2660-1771768800-1771772400@flowercityspecialhockey.org
SUMMARY:Practice
DESCRIPTION:We will be holding practice at Paul Louis Arena
URL:https://flowercityspecialhockey.org/event/no-practice-9/
LOCATION:Paul Louis Arena\, 1 Boys Club Place\, Rochester\, 14608\, United States
CATEGORIES:Practices
END:VEVENT
BEGIN:VEVENT
DTSTART;TZID=America/New_York:20260221T090000
DTEND;TZID=America/New_York:20260221T100000
DTSTAMP:20260421T082211
CREATED:20260215T020629Z
LAST-MODIFIED:20260215T020802Z
UID:3684-1771664400-1771668000@flowercityspecialhockey.org
SUMMARY:Practice at Dicks House of Sports
DESCRIPTION:We will be holding practice at Dicks house of Sports in Victor\, NY
URL:https://flowercityspecialhockey.org/event/practice-at-dicks-house-of-sports/
LOCATION:Dicks House of Sports\, 200 East view Mall\, Victor\, NY\, 14564\, United States
CATEGORIES:Practices
END:VEVENT
BEGIN:VEVENT
DTSTART;TZID=America/New_York:20260215T170000
DTEND;TZID=America/New_York:20260215T180000
DTSTAMP:20260421T082211
CREATED:20250726T133955Z
LAST-MODIFIED:20250921T143300Z
UID:2658-1771174800-1771178400@flowercityspecialhockey.org
SUMMARY:No Practice
DESCRIPTION:We will not be holding practice at Scottsville Ice Arena
URL:https://flowercityspecialhockey.org/event/practice-32/
LOCATION:Scottsville Ice Arena\, 2000 Scottsville-Chili Rd\, Scottsville\, NY\, 14546\, United States
END:VEVENT
BEGIN:VEVENT
DTSTART;TZID=America/New_York:20260214T090000
DTEND;TZID=America/New_York:20260215T120000
DTSTAMP:20260421T082211
CREATED:20250921T143128Z
LAST-MODIFIED:20260119T210941Z
UID:2872-1771059600-1771156800@flowercityspecialhockey.org
SUMMARY:Broome Includes 2026
DESCRIPTION:The Binghamton Hawks will be hosting the Broome Includes Invitational Festival on February 14-15\, 2026 at The Farm in Vestal\, NY. This year’s festival will be a smaller event due to scheduling and ice availability\,  a select group of B/C teams have been invited to join them for a fun and community-focused weekend. Please note that\, given the outdoor location\, the event will be weather dependent. \n  \n The tournament schedule will be out closer to the event BUT plan for games on Saturday 2/14 anytime from 9am to 4pm AND Sunday 2/15 from 8am to 12pm.\nMost likely each team will have 2 games on Saturday and 1 game on Sunday.\nThese will be at the Farm Rink at 324 Knight Rd in Vestal\, NY.\nEveryone should be familiar with this as this is where we have had games for the last few years.\nThese will be combined B/C games. NO A GAMES!\nPlease make sure that all athletes\, families\, visitors\, teams\, etc watch this video before attending the tournament at the Farm:\nhttps://www.thefarmrink.com/know-before-you-go\nThere will NOT be games at the Riverbend (Icehouse) or Visions Arena.\nThere WILL be raffle baskets at the Farm on Saturday during the day.\nThey are going to have our party Saturday evening 2/14 7pm at the Holiday Inn Arena in downtown Binghamton.\nThis is still in the planning phases.\nThere will be food and a DJ among other things. Raffle baskets will be brought to the party and names will be drawn during the party!\nDo not need to be present to win. \nHotel room blocks: Holiday Inn Arena Binghamton Black Hawkes or call 607-722-1212 Group code: BHS 2/13-2/16.\nThey stated the cut off date to be 1/14 but I am currently working on getting that extended. \nThey also have rooms at DoubleTree by Hilton in downtown Binghamton Cutoff date is 1/29/26 and then rooms will be released. https://www.hilton.com/en/book/reservation/rooms/?ctyhocn=BGMWSDT&arrivalDate=2026-02-13&departureDate=2026-02-15&groupCode=CDTSNH&room1NumAdults=1&cid=OM%2CWW%2CHILTONLINK%2CEN%2CDirectLink \n Teams Attending:\n1. Flower City\n2. Binghamton Hawks\n3. Ottawa Bandits\n4. Washington Ice Dogs\n5. Central Park North Stars\n6. A combined team with Buffalo Sabres Thunder/NJ DareDevils/Mercer Bulldogs
URL:https://flowercityspecialhockey.org/event/broome-includes-2026/
LOCATION:The Farm Rink\, 324 Knight Rd\, Vestal\, 13850\, United States
CATEGORIES:Special Event,Tournament
END:VEVENT
BEGIN:VEVENT
DTSTART;TZID=America/New_York:20260208T170000
DTEND;TZID=America/New_York:20260208T180000
DTSTAMP:20260421T082211
CREATED:20250726T133827Z
LAST-MODIFIED:20250726T133827Z
UID:2656-1770570000-1770573600@flowercityspecialhockey.org
SUMMARY:No Practice
DESCRIPTION:We will not be holding practice due to the Super Bowl
URL:https://flowercityspecialhockey.org/event/no-practice-8/
LOCATION:MI
CATEGORIES:Practices
END:VEVENT
BEGIN:VEVENT
DTSTART;TZID=America/New_York:20260207T110000
DTEND;TZID=America/New_York:20260207T120000
DTSTAMP:20260421T082211
CREATED:20250913T204430Z
LAST-MODIFIED:20251111T015324Z
UID:2868-1770462000-1770465600@flowercityspecialhockey.org
SUMMARY:Game Vs. Brighton High School Bruins at Dicks House of Sports
DESCRIPTION:We head to Dicks House of Sports Outdoor arena in Victor\, NY for a game with the Brighton High School Bruins hockey team.
URL:https://flowercityspecialhockey.org/event/dicks-house-of-sports-ice-time-4/
LOCATION:Dicks House of Sports\, 200 East view Mall\, Victor\, NY\, 14564\, United States
CATEGORIES:Scrimmage,Special Event
END:VEVENT
BEGIN:VEVENT
DTSTART;TZID=America/New_York:20260201T170000
DTEND;TZID=America/New_York:20260201T180000
DTSTAMP:20260421T082211
CREATED:20250726T133718Z
LAST-MODIFIED:20260121T132634Z
UID:2654-1769965200-1769968800@flowercityspecialhockey.org
SUMMARY:Practice
DESCRIPTION:We will be holding practice at Lakeshore Hockey Arena
URL:https://flowercityspecialhockey.org/event/practice-31/
LOCATION:Lakeshore Hockey Arena\, 123 Ling Rd\, Rochester\, NY\, 14612\, United States
CATEGORIES:Practices
END:VEVENT
BEGIN:VEVENT
DTSTART;TZID=America/New_York:20260125T180000
DTEND;TZID=America/New_York:20260125T190000
DTSTAMP:20260421T082211
CREATED:20250726T133610Z
LAST-MODIFIED:20251228T184315Z
UID:2652-1769364000-1769367600@flowercityspecialhockey.org
SUMMARY:Practice
DESCRIPTION:We will be holding practice at Dicks House of Sports in Victor\, NY
URL:https://flowercityspecialhockey.org/event/practice-30/
LOCATION:Dicks House of Sports\, 200 East view Mall\, Victor\, NY\, 14564\, United States
CATEGORIES:Practices
END:VEVENT
BEGIN:VEVENT
DTSTART;TZID=America/New_York:20260124T170500
DTEND;TZID=America/New_York:20260124T210000
DTSTAMP:20260421T082211
CREATED:20250724T235713Z
LAST-MODIFIED:20250905T122027Z
UID:2604-1769274300-1769288400@flowercityspecialhockey.org
SUMMARY:RIT Intermission Skate
DESCRIPTION:We will be attending the RIT game Saturday January 24th as they take on Niagara University. We will have a chance to see a couple of our friends from the Jr Amerks\, Gionta and Karlsson. We will be skating during the 1st intermission skate
URL:https://flowercityspecialhockey.org/event/rit-intermission-skate/
LOCATION:RIT Gene Polisseni Center\, 200 Lomb Memorial Dr\, Rochester\, NY\, 14623\, United States
CATEGORIES:Special Event
END:VEVENT
BEGIN:VEVENT
DTSTART;TZID=America/New_York:20260118T170000
DTEND;TZID=America/New_York:20260118T180000
DTSTAMP:20260421T082211
CREATED:20250724T235118Z
LAST-MODIFIED:20251230T003854Z
UID:2597-1768755600-1768759200@flowercityspecialhockey.org
SUMMARY:Game with Binghamton Hawks
DESCRIPTION:We will be hosting the Binghamton hawks for a game at Lakeshore Hockey Arena
URL:https://flowercityspecialhockey.org/event/game-with-binghamton-hawks-2/
LOCATION:Lakeshore Hockey Arena\, 123 Ling Rd\, Rochester\, NY\, 14612\, United States
CATEGORIES:Scrimmage
END:VEVENT
BEGIN:VEVENT
DTSTART;TZID=America/New_York:20260117T190000
DTEND;TZID=America/New_York:20260117T220000
DTSTAMP:20260421T082211
CREATED:20250906T160015Z
LAST-MODIFIED:20250906T160015Z
UID:2758-1768676400-1768687200@flowercityspecialhockey.org
SUMMARY:Rochester Jr Americans Game/Skate
DESCRIPTION:We will be attending the Rochester Jr Amercans game as they take on the Northeast Generals.\nOur Team has the opportunity to skate during their intermission. \nMore details to come as the date approaches.
URL:https://flowercityspecialhockey.org/event/rochester-jr-americans-game-skate-2/
LOCATION:Rochester Ice Center\, 80 Lyndon Rd\, Fairport\, NY\, 14450\, United States
CATEGORIES:Special Event
END:VEVENT
BEGIN:VEVENT
DTSTART;TZID=America/New_York:20260111T081500
DTEND;TZID=America/New_York:20260111T091500
DTSTAMP:20260421T082211
CREATED:20250726T133509Z
LAST-MODIFIED:20251217T173108Z
UID:2650-1768119300-1768122900@flowercityspecialhockey.org
SUMMARY:Practice
DESCRIPTION:We will be holding practice at Lakeshore Hockey Arena
URL:https://flowercityspecialhockey.org/event/practice-29/
LOCATION:Lakeshore Hockey Arena\, 123 Ling Rd\, Rochester\, NY\, 14612\, United States
CATEGORIES:Practices
END:VEVENT
BEGIN:VEVENT
DTSTART;TZID=America/New_York:20260104T140000
DTEND;TZID=America/New_York:20260104T150000
DTSTAMP:20260421T082211
CREATED:20250726T133425Z
LAST-MODIFIED:20251210T205130Z
UID:2648-1767535200-1767538800@flowercityspecialhockey.org
SUMMARY:Game Vs. Churchville-Chili
DESCRIPTION:We will be hosting Churchville-Chili HS for a game at Paul Louis
URL:https://flowercityspecialhockey.org/event/practice-28/
LOCATION:Paul Louis Arena\, 1 Boys Club Place\, Rochester\, 14608\, United States
CATEGORIES:Practices,Scrimmage
END:VEVENT
BEGIN:VEVENT
DTSTART;TZID=America/New_York:20251228T170000
DTEND;TZID=America/New_York:20251228T180000
DTSTAMP:20260421T082211
CREATED:20250726T133333Z
LAST-MODIFIED:20250726T133333Z
UID:2646-1766941200-1766944800@flowercityspecialhockey.org
SUMMARY:No Practice
DESCRIPTION:We will not be holding practice today
URL:https://flowercityspecialhockey.org/event/no-practice-7/
LOCATION:MI
CATEGORIES:Practices
END:VEVENT
BEGIN:VEVENT
DTSTART;TZID=America/New_York:20251227T180000
DTEND;TZID=America/New_York:20251227T190000
DTSTAMP:20260421T082211
CREATED:20251125T225122Z
LAST-MODIFIED:20251125T225122Z
UID:3374-1766858400-1766862000@flowercityspecialhockey.org
SUMMARY:Family Skate at Dicks House of Sports
DESCRIPTION:We have booked an hour of ice time at Dicks house of sports outdoor arena in Victor. \nOur players and their families are invited to come out and skate together.
URL:https://flowercityspecialhockey.org/event/family-skate-at-dicks-house-of-sports/
LOCATION:Dicks House of Sports\, 200 East view Mall\, Victor\, NY\, 14564\, United States
CATEGORIES:Special Event
END:VEVENT
BEGIN:VEVENT
DTSTART;TZID=America/New_York:20251221T170000
DTEND;TZID=America/New_York:20251221T180000
DTSTAMP:20260421T082211
CREATED:20250726T133127Z
LAST-MODIFIED:20250726T133127Z
UID:2644-1766336400-1766340000@flowercityspecialhockey.org
SUMMARY:No Practice
DESCRIPTION:we will not be holding practice today
URL:https://flowercityspecialhockey.org/event/no-practice-6/
LOCATION:MI
CATEGORIES:Practices
END:VEVENT
BEGIN:VEVENT
DTSTART;TZID=America/New_York:20251220T110000
DTEND;TZID=America/New_York:20251220T120000
DTSTAMP:20260421T082211
CREATED:20250913T204310Z
LAST-MODIFIED:20250913T204310Z
UID:2866-1766228400-1766232000@flowercityspecialhockey.org
SUMMARY:Dicks House of Sports Ice Time
DESCRIPTION:We head to Dicks House of Sports Outdoor arena in Victor\, NY for an hour of ice time.
URL:https://flowercityspecialhockey.org/event/dicks-house-of-sports-ice-time-3/
LOCATION:Dicks House of Sports\, 200 East view Mall\, Victor\, NY\, 14564\, United States
CATEGORIES:Scrimmage,Special Event
END:VEVENT
END:VCALENDAR